BEGIN:VCALENDAR
VERSION:2.0
PRODID:-//spirit-pond.com - ECPv6.15.17.1//NONSGML v1.0//EN
CALSCALE:GREGORIAN
METHOD:PUBLISH
X-WR-CALNAME:spirit-pond.com
X-ORIGINAL-URL:https://spirit-pond.com
X-WR-CALDESC:Veranstaltungen für spirit-pond.com
REFRESH-INTERVAL;VALUE=DURATION:PT1H
X-Robots-Tag:noindex
X-PUBLISHED-TTL:PT1H
BEGIN:VTIMEZONE
TZID:Europe/Vienna
BEGIN:DAYLIGHT
TZOFFSETFROM:+0100
TZOFFSETTO:+0200
TZNAME:CEST
DTSTART:20250330T010000
END:DAYLIGHT
BEGIN:STANDARD
TZOFFSETFROM:+0200
TZOFFSETTO:+0100
TZNAME:CET
DTSTART:20251026T010000
END:STANDARD
BEGIN:DAYLIGHT
TZOFFSETFROM:+0100
TZOFFSETTO:+0200
TZNAME:CEST
DTSTART:20260329T010000
END:DAYLIGHT
BEGIN:STANDARD
TZOFFSETFROM:+0200
TZOFFSETTO:+0100
TZNAME:CET
DTSTART:20261025T010000
END:STANDARD
BEGIN:DAYLIGHT
TZOFFSETFROM:+0100
TZOFFSETTO:+0200
TZNAME:CEST
DTSTART:20270328T010000
END:DAYLIGHT
BEGIN:STANDARD
TZOFFSETFROM:+0200
TZOFFSETTO:+0100
TZNAME:CET
DTSTART:20271031T010000
END:STANDARD
END:VTIMEZONE
BEGIN:VEVENT
DTSTART;VALUE=DATE:20260625
DTEND;VALUE=DATE:20260630
DTSTAMP:20260424T103359
CREATED:20260325T144014Z
LAST-MODIFIED:20260325T144014Z
UID:748-1782345600-1782777599@spirit-pond.com
SUMMARY:Resilience Retreat 2
DESCRIPTION:Inner Strength and Resilience – No Matter What!\nWir leben in einer Zeit\, in der man sich rasch auf neue Umstände einstellen muss. sowohl im privaten Bereich\, wie auch weltpolitisch gesehen. Zudem ist es wichtig\, dass wir unterscheiden lernen\, was ist Wahrheit\, was ist fake. Und wir alle verfügen über ein gesundes Pensum Intuition. Um wieder klaren Zugang zur eigenen Intuition zu gelangen\, ist es wichtig\, mit dein eigenen Ängsten und Barrieren aufzuräumen. Die Basis dafür ist\, Abstand nehmen und Kraft tanken. Energien und Dynamiken erkennen und rechtzeitig darauf zu reagieren und gesunde Handlungen zu setzen. Resilience ist eine Entscheidung\, kein Zustand! Wenn Du dich dazu entscheidest\, den Lebensherausforderungen mit Klarsicht zu begegnen\, anstatt in einer Schockstarre zu landen\, dann ist dieses Retreat bestimmt das Richtige für dich. Ein Kraftquellen-Retreat an ganz speziellen Orten inmitten der Natur. \nDonnerstag\, 25.6.2026 | bis 15 Uhr Anreise\nFreitag\, 26.6.2026 | 9 – 17 Uhr\nSamstag\, 27.6.2026 | 9 – 17 Uhr\nSonntag\, 27.6.2026 | 9 – 13 Uhr\nMontag\, 29.6.2026 | ab 7:00 Uhr Wanderung für begeisterte Bergsteiger:innen \nGeleitet von Mag. Renate Frech\, E.MA und Ing. Elisabeth Nurmal Khairi\nWir freuen uns sehr auf euch! \nFür BergsteigerInnen und alle die\, die Berge noch intensiver genießen möchten\, gibt es am 29.06. die Möglichkeit einer Wanderung im Großglockner Gebiet\, Nationalpark Hohe Tauern\nENERGIEAUSGLEICH:\n€ 660\,–/Person \nWO:\nIn der Luckner Hütte\, Kals\, Osttirol. Infos über die Luckner Hütte findest du hier \nÜBERNACHTUNG:\nEs stehen Zimmer direkt in der Luckner Hütte für euch bereit. Stornierung bis eine Wochen vorher ist kostenfrei. \nPreise:\n1x Doppelzimmer für 2 Personen mit Dusche/WC zum Preis von € 100\,00 pro Person und Nacht inkl. Halbpension\n1x 2-Bett-Zimmerlager für 2 Personen zum Preis von € 85\,00 pro Person und Nacht inkl. Halbpension\n1x 4-Bett-Zimmerlager für 4 Personen zum Preis von € 85\,00 pro Person und Nacht inkl. Halbpension \nWAS WIR BRAUCHEN | INFOS:\n\nMindestens 4 Teilnehmer – damit es stattfindet – Maximal 8 Teilnehmer\nBequeme Kleidung und Schuhe\, Wanderausrüstung für die Zusatzveranstaltung\nBei Anreise mit dem Zug oder Flixbus werdet ihr vom jeweiligen Bus-Bahnhof abgeholt – lasst uns eine möglichst einheitliche Anreisezeit finden.\nBei Anreise mit dem Auto erhält ihr per Mail die genaue Adresse.\nAnreise am 17.4.2026 – wir starten in Liebensdorf um 15:00 h\nFahrservice zu und von den Appartements ist vorhanden (ca. 7 Minuten Fahrzeit)\nTee und Kaffee ist da. Andere Getränke und Jausen bitte mitbringen. Abends nach dem Tagewerk werden wir gemeinsam auswärts essen.\n\nBei weiteren Fragen\, bitte unser Kontaktformular nützen.
URL:https://spirit-pond.com/event/resilience-retreat-2/
ATTACH;FMTTYPE=image/jpeg:https://spirit-pond.com/wp-content/uploads/2026/03/Arammu_Bergretreat.jpg
ORGANIZER;CN="Arammu":MAILTO:message@spirit-pond.com
END:VEVENT
END:VCALENDAR